BEGIN:VCALENDAR
VERSION:2.0
PRODID:-//CCME - ECPv6.15.11//NONSGML v1.0//EN
CALSCALE:GREGORIAN
METHOD:PUBLISH
X-ORIGINAL-URL:https://www.ccme.org.br
X-WR-CALDESC:Eventos para CCME
REFRESH-INTERVAL;VALUE=DURATION:PT1H
X-Robots-Tag:noindex
X-PUBLISHED-TTL:PT1H
BEGIN:VTIMEZONE
TZID:UTC
BEGIN:STANDARD
TZOFFSETFROM:+0000
TZOFFSETTO:+0000
TZNAME:UTC
DTSTART:20240101T000000
END:STANDARD
END:VTIMEZONE
BEGIN:VEVENT
DTSTART;TZID=UTC:20250517T100000
DTEND;TZID=UTC:20250517T120000
DTSTAMP:20260424T060403
CREATED:20250506T225320Z
LAST-MODIFIED:20250506T225452Z
UID:111304-1747476000-1747483200@www.ccme.org.br
SUMMARY:Palestra - Animais Peçonhentos
DESCRIPTION:A palestra sobre ANIMAIS PEÇONHENTOS falará sobre o reconhecimento de animais como cobras\, aranhas\, escorpiões e outros animais mais comuns\, sobre identificação e os socorros que devem ser ministrados. \nO palestrante será ADELMIR PERNA\, escoteiro desde 1945 do antigo grupo do Tijuca Tênis Clube é especialista desde a adolescência treinado pelo Instituto Butantan\, sendo atualmente o único especialista no assunto na região de Muriaé\, Minas Gerais. \npalestra aberta ao público. \nSábado\, 17/05/2025 \n10:00 às 12:00
URL:https://www.ccme.org.br/event/palestra-animais-peconhentos/
LOCATION:CCME – Centro Cultural do Movimento Escoteiro\, Rua 1º de Março 112\, Rio de Janeiro\, 20010-000
CATEGORIES:Curso
END:VEVENT
END:VCALENDAR