BEGIN:VCALENDAR
VERSION:2.0
PRODID:-//CCME - ECPv6.15.11//NONSGML v1.0//EN
CALSCALE:GREGORIAN
METHOD:PUBLISH
X-WR-CALNAME:CCME
X-ORIGINAL-URL:https://www.ccme.org.br
X-WR-CALDESC:Eventos para CCME
REFRESH-INTERVAL;VALUE=DURATION:PT1H
X-Robots-Tag:noindex
X-PUBLISHED-TTL:PT1H
BEGIN:VTIMEZONE
TZID:UTC
BEGIN:STANDARD
TZOFFSETFROM:+0000
TZOFFSETTO:+0000
TZNAME:UTC
DTSTART:20150101T000000
END:STANDARD
END:VTIMEZONE
BEGIN:VEVENT
DTSTART;TZID=UTC:20170128T100000
DTEND;TZID=UTC:20170204T170000
DTSTAMP:20260424T060703
CREATED:20161207T185223Z
LAST-MODIFIED:20161215T150126Z
UID:1431-1485597600-1486227600@www.ccme.org.br
SUMMARY:Curso de Navegação Aérea
DESCRIPTION:Release. A navegação aérea é um tema ligado a tecnologia aeronáutica que contribui com uma série de conhecimentos a cerca das aeronaves\, atmosfera\, segurança e a orientação de voo. \nDATAS: 28 de janeiro e 4 de fevereiro. (sábados) \nHORÁRIO: 10:00 as 17:00. \nInscrição: R$ 50\,00 (não sócio)\, R$ 40\,00 (sócio) \nOBS. Jovens escoteiros que concluírem satisfatoriamente o curso poderão ser avaliados na especialidade de NAVEGAÇÃO AÉREA. \nDIRETOR: \n THIAGO FERNANDES\, é escoteiro do ar há mais de 20 anos e é habilitado como piloto privado pela Escola de Aviação SKYLAB\, possuindo larga experiência pedagógica no tema. \n 
URL:https://www.ccme.org.br/event/curso-de-navegacao-aerea/
LOCATION:CCME – Centro Cultural do Movimento Escoteiro\, Rua 1º de Março 112\, Rio de Janeiro\, 20010-000
ATTACH;FMTTYPE=image/jpeg:https://www.ccme.org.br/wp-content/uploads/2016/12/Cartaz-navegação-aérea.jpg
END:VEVENT
BEGIN:VEVENT
DTSTART;TZID=UTC:20170118T183000
DTEND;TZID=UTC:20170118T213000
DTSTAMP:20260424T060703
CREATED:20161207T191412Z
LAST-MODIFIED:20161207T191412Z
UID:1436-1484764200-1484775000@www.ccme.org.br
SUMMARY:Aulão de RIPEAM
DESCRIPTION:Release. RIPEAM significa “Regulamentos Internacionais para Evitar Abalroamentos no Mar” e é um tema de extrema importância para os que utilizam embarcações e praticam a navegação. Também configuram etapas de formação dos Escoteiros do Mar. \nDATA: 18 de janeiro de 2016. (quarta-feira) \nHORÁRIO: 18:30 às 21:30. \nInscrição: R$ 10\,00 (Sócio) / R$ 15\,00 (não sócio). \nOBS. Jovens escoteiros que concluírem satisfatoriamente o aulão poderão ser avaliados na especialidade de VELA. \nDiretor: \nMARCELO MOTTA\, é Escoteiro do Mar há mais de 40 anos e trabalha com marinharia especializada em rios tendo experiência com navegação para obras na Baia da Guanabara. Profundo conhecedor do tema é um especialista com profundo conhecimento. Diretor técnico do 123ºGEMAR Alte Saldanha é vice presidente do CCME.
URL:https://www.ccme.org.br/event/aulao-de-ripeam/
LOCATION:CCME – Centro Cultural do Movimento Escoteiro\, Rua 1º de Março 112\, Rio de Janeiro\, 20010-000
ATTACH;FMTTYPE=image/jpeg:https://www.ccme.org.br/wp-content/uploads/2016/12/Aulão-RIPEAM-ccme.jpg
END:VEVENT
BEGIN:VEVENT
DTSTART;TZID=UTC:20170116T183000
DTEND;TZID=UTC:20170122T180000
DTSTAMP:20260424T060703
CREATED:20161011T045123Z
LAST-MODIFIED:20161215T160201Z
UID:1298-1484591400-1485108000@www.ccme.org.br
SUMMARY:Curso de GPS
DESCRIPTION:Release. O GPS significa Global Positioning System\, (Sistema de Posicionamento Global) que consiste numa tecnologia de localização por satélite a partir de um dispositivo móvel\, que envia informações sobre a posição em qualquer horário e em qualquer condição climática muito utilizado para trabalhos e também nas atividades escoteiras que envolvem a Orientação. \nDATAS e HORÁRIOS: \nAulas Teóricas > 16 e 18 de janeiro  (segunda e quarta). [ 18:30 a 20:30\, na sede do CCME ]\nAula Prática > 22 de janeiro (domingo). [ 09:00 às 18:00\, em área externa ]\nINSCRIÇÃO:  R$ 60\,00 (não sócio)\, R$ 50\,00 (sócio). \n*os valores de deslocamentos e outros gastos pessoais para a aula prática não estão incluídos na inscrição. \nOBS. Os jovens que participarem poderão ser avaliados na nova especialidade de GPS. \nDIRETOR \n RENATO PIMENTA é engenheiro florestal e chefe escoteiro no 2ºGE São João Baptista da Lagoa\, em botafogo\, diretor do CCME e atuante a mais de 30 anos no movimento escoteiro.
URL:https://www.ccme.org.br/event/curso-de-gps/
LOCATION:CCME – Centro Cultural do Movimento Escoteiro\, Rua 1º de Março 112\, Rio de Janeiro\, 20010-000
ATTACH;FMTTYPE=image/jpeg:https://www.ccme.org.br/wp-content/uploads/2016/10/curso-gps.jpg
END:VEVENT
BEGIN:VEVENT
DTSTART;TZID=UTC:20170114T090000
DTEND;TZID=UTC:20170114T120000
DTSTAMP:20260424T060703
CREATED:20161215T154305Z
LAST-MODIFIED:20170109T181617Z
UID:1458-1484384400-1484395200@www.ccme.org.br
SUMMARY:Curso de Esquetes
DESCRIPTION:Release. As esquetes são pequenas apresentações teatrais bastante comuns nas atividades escoteiras\, seja nos Fogos de Conselho ou seja nas reuniões e atividades.\n\nO curso abordará :\n– pequena história do teatro e da representação\n– importância da arte cênica na vida de B-P\n– por/para quê representar?\n– expressão corporal: exercícios práticos\n– Formas de representação: peça\, esquete.\n– O/a esquete?\n– como/quando/ por quê montar esquetes\n– esquetes: execícios práticos\n\nDATAS: 14/01/2017 (sábado) – 4 horas-aula \nHORÁRIO: 09:00 as 12:00. \nInscrição: R$ 30\,00 (não sócio)\, R$ 20\,00 (sócio) \nOBS. Jovens escoteiros que concluírem satisfatoriamente o curso poderão ser avaliados na especialidade de FOGO DE CONSELHO. \nDIRETOR: \n\n  LUCIANO GABRIELLI (Javali Cinzento)\, é Chefe a mais de 40 anos; com larga experiência em montagem de apresentações escoteiras em apresentações artísticas e fogos-de-conselho em atividades regionais e nacionais.
URL:https://www.ccme.org.br/event/curso-de-esquetes/
LOCATION:CCME – Centro Cultural do Movimento Escoteiro\, Rua 1º de Março 112\, Rio de Janeiro\, 20010-000
ATTACH;FMTTYPE=image/jpeg:https://www.ccme.org.br/wp-content/uploads/2016/12/BAnner.jpg
END:VEVENT
BEGIN:VEVENT
DTSTART;TZID=UTC:20170112T130000
DTEND;TZID=UTC:20170117T180000
DTSTAMP:20260424T060703
CREATED:20161013T041010Z
LAST-MODIFIED:20170109T180929Z
UID:1304-1484226000-1484676000@www.ccme.org.br
SUMMARY:Curso História do Escotismo
DESCRIPTION:Release. O Curso de História do Escotismo prevê uma série de palestras sobre contexto histórico do movimento escoteiro\, ministradas por diferentes adultos do escotismo\, incluindo pessoas que vivenciaram a história. Além das palestras haverão atividades pedagógicas e de interação a cerca do tema. \nDATAS: 12 e 17 de janeiro. (Terças e quintas) \nHORÁRIOS: 13:00 a 18:00. \nVALORES: R$ 40\,00 (sócio)\,  R$ 50\,00 (não sócio) \nOBS. Os jovens escoteiros que participarem poderão ser avaliados na especialidade de História do Escotismo. \nDIRETOR. \n ANDRÉ SÁ é jornalista\, radialista e historiador. Mestre pioneiro no 2ºGE São João Baptista da Lagoa atua há mais de 30 anos no movimento escoteiro.
URL:https://www.ccme.org.br/event/curso-historia-do-escotismo/
LOCATION:CCME – Centro Cultural do Movimento Escoteiro\, Rua 1º de Março 112\, Rio de Janeiro\, 20010-000
ATTACH;FMTTYPE=image/jpeg:https://www.ccme.org.br/wp-content/uploads/2016/10/Banner-Curso-Hist-do-Escotismo.jpg
END:VEVENT
BEGIN:VEVENT
DTSTART;TZID=UTC:20170110T183000
DTEND;TZID=UTC:20170112T213000
DTSTAMP:20260424T060703
CREATED:20161207T195056Z
LAST-MODIFIED:20161207T201737Z
UID:1438-1484073000-1484256600@www.ccme.org.br
SUMMARY:Curso de Sushi e Sashimi
DESCRIPTION:Release. A culinária japonesa é uma deliciosa novidade no paladar brasileiro\, porém poucos sabem preparar e comprar os ingredientes necessários além de mexer com o pescado. O curso tem por objetivo dar noções básicas para que os alunos saibam se virar e produzir em casa para sua própria degustação. \nDATA: 10 e 12 de janeiro (quarta e quinta) \nHORÁRIO: 18:30 as 21:30 \nInscrição: R$ 120\,00 (sócio) / R$ 150\,00 (não sócio) \nOBS. Os jovens escoteiros que participarem poderão conquistar etapas da especialidade de CULINÁRIA. \nDiretor: \n ELY WICHAN MOUTA\, é auxiliar de culinária japonesa formado pelo Senac\, trabalha há 20 anos com cozinha além de ser Escoteiro do Mar desde adolescente. \n  \n 
URL:https://www.ccme.org.br/event/curso-de-sushi-e-sashimi/
LOCATION:CCME – Centro Cultural do Movimento Escoteiro\, Rua 1º de Março 112\, Rio de Janeiro\, 20010-000
ATTACH;FMTTYPE=image/jpeg:https://www.ccme.org.br/wp-content/uploads/2016/12/imagem-par-acurso.jpg
END:VEVENT
BEGIN:VEVENT
DTSTART;TZID=UTC:20170110T140000
DTEND;TZID=UTC:20170131T180000
DTSTAMP:20260424T060703
CREATED:20161011T041523Z
LAST-MODIFIED:20161207T181248Z
UID:1295-1484056800-1485885600@www.ccme.org.br
SUMMARY:Curso de Nós e Voltas
DESCRIPTION:Release. Os nós e voltas são uma das artes mais antigas do mundo. Além de ser uma arte\, é uma técnica útil bastante usada para a vida e em especial para a marinharia. Com o curso pretende-se que os alunos aprendam uma gama imensa de nós\, voltas e suas utilidades.DATAS: 10\, 11\, 12\, 17\, 18\, 19\, 24\, 25\, 26 e 31 de janeiro (terças\, quartas e quintas) \nHORÁRIOS: 14:00 a 18:00\, às terças e quintas. \nInscrição: R$ 70\,00 (não sócio)\, R$ 60\,00 (sócio) \nOBS. Jovens escoteiros que concluírem satisfatoriamente o curso poderão ser avaliados na especialidade de ARTES DO MARINHEIRO. \nDIRETOR: \n MARCELO MOTTA\, é Escoteiro do Mar há mais de 40 anos e trabalha com marinharia especializada em rios tendo experiência com navegação para obras na Baia da Guanabara. Profundo conhecedor do tema é um especialista com profundo conhecimento. Diretor técnico do 123ºGEMAR Alte Saldanha é vice presidente do CCME.
URL:https://www.ccme.org.br/event/curso-de-nos-e-voltas/
LOCATION:CCME – Centro Cultural do Movimento Escoteiro\, Rua 1º de Março 112\, Rio de Janeiro\, 20010-000
ATTACH;FMTTYPE=image/jpeg:https://www.ccme.org.br/wp-content/uploads/2016/10/cartaz-1.jpg
END:VEVENT
BEGIN:VEVENT
DTSTART;TZID=UTC:20170109T100000
DTEND;TZID=UTC:20170113T180000
DTSTAMP:20260424T060703
CREATED:20161207T214124Z
LAST-MODIFIED:20161208T184923Z
UID:1445-1483956000-1484330400@www.ccme.org.br
SUMMARY:Curso de Primeiros Socorros
DESCRIPTION:Release: O CCME o ano de 2017 com mais um curso de Primeiros Socorros que colaborará para aumentar o conhecimento dos escoteiros sobre este tema tão fundamental para o treinamento da nossa juventude. O Curso de Primeiros Socorros de férias\, tem por objetivo ensinar técnicas adequadas para o socorrismo\, possibilitando\, assim\, que nossos escoteiros sejam úteis com mais segurança e presteza. \n* aulas teóricas: 9 a 13 de janeiro (segunda a sexta)\, de 10:00 às 18:00. \n* visitação a Ambulância de Resgate: 13 (janeiro) pela tarde. \n* encerramento do curso: 13 de janeiro. \nCONDIÇÕES PARA PARTICIPAÇÃO NO CURSO: \nNumero mínimo de alunos: 20 (vinte) \nNumero máximo de alunos: 40 (quarenta) \nTer a idade mínima: 11 anos. \nTAXA DE INSCRIÇÃO \nSócio: R$ 50\,00 (quarenta reais) \nNão sócio: R$ 60\,00 (sessenta reais) \nDETALHES DO CURSO \n– 40  horas aula \n– 4 avaliações teóricas e práticas \nConteúdo >> Primeiras ações do Socorrista / Sinais vitais / Parada Cardio Respiratória / Hemorragias / Estado de Choque / Ferimentos\, Ataduras e Tipóias / Queimaduras\, Desidratação\, Insolação\, Hipotermia  etc (Lesões ambientais) / Emergências clínicas / Envenenamento e Intoxicação Alimentar / Transporte de acidentados / Prevenção de acidentes / Maleta de Primeiros Socorros / Mobilização para Desastres e Catástrofes / Parto Súbito / Animais Peçonhentos / DST e Epidemias / Vacinas\, Campanhas de Vacinação  / Pressão arterial. \nOBS* Os aprovados no curso poderão concorrer a certificação das especialidades de Primeiros Socorros e Socorrismo\, de acordo com o critério do Diretor do Curso. \nDiretor: \n HERMES BERERHAUD\, é Enfermeiro e Instrutor ECSI e chefe escoteiro.
URL:https://www.ccme.org.br/event/curso-de-primeiros-socorros-2/
LOCATION:CCME – Centro Cultural do Movimento Escoteiro\, Rua 1º de Março 112\, Rio de Janeiro\, 20010-000
ATTACH;FMTTYPE=image/jpeg:https://www.ccme.org.br/wp-content/uploads/2016/12/Cartaz-Curso-SOS-jan.2017.jpg
END:VEVENT
BEGIN:VEVENT
DTSTART;TZID=UTC:20161207T140000
DTEND;TZID=UTC:20161207T180000
DTSTAMP:20260424T060703
CREATED:20161207T173014Z
LAST-MODIFIED:20161207T173422Z
UID:1420-1481119200-1481133600@www.ccme.org.br
SUMMARY:Aulão de RIPEAM
DESCRIPTION:Release. RIPEAM significa “Regulamentos Internacionais para Evitar Abalroamentos no Mar” e é um tema de extrema importância para os que utilizam embarcações e praticam a navegação. Também configuram etapas de formação dos Escoteiros do Mar. \nDATA: 7 de dezembro de 2016. (quarta-feira) \nHORÁRIO: 14:00 às 18:00. \nInscrição: GRATUITO \nOBS. Jovens escoteiros que concluírem satisfatoriamente o aulão poderão ser avaliados na especialidade de VELA. \nDiretor: \nMARCELO MOTTA\, é Escoteiro do Mar há mais de 40 anos e trabalha com marinharia especializada em rios tendo experiência com navegação para obras na Baia da Guanabara. Profundo conhecedor do tema é um especialista com profundo conhecimento. Diretor técnico do 123ºGEMAR Alte Saldanha é vice presidente do CCME.
URL:https://www.ccme.org.br/event/aulao-ripeam/
LOCATION:CCME – Centro Cultural do Movimento Escoteiro\, Rua 1º de Março 112\, Rio de Janeiro\, 20010-000
ATTACH;FMTTYPE=image/jpeg:https://www.ccme.org.br/wp-content/uploads/2016/12/Aulão-RIPEAM-ccme.jpg
END:VEVENT
END:VCALENDAR