BEGIN:VCALENDAR
VERSION:2.0
PRODID:-//CCME - ECPv6.15.11//NONSGML v1.0//EN
CALSCALE:GREGORIAN
METHOD:PUBLISH
X-ORIGINAL-URL:https://www.ccme.org.br
X-WR-CALDESC:Eventos para CCME
REFRESH-INTERVAL;VALUE=DURATION:PT1H
X-Robots-Tag:noindex
X-PUBLISHED-TTL:PT1H
BEGIN:VTIMEZONE
TZID:UTC
BEGIN:STANDARD
TZOFFSETFROM:+0000
TZOFFSETTO:+0000
TZNAME:UTC
DTSTART:20250101T000000
END:STANDARD
END:VTIMEZONE
BEGIN:VEVENT
DTSTART;TZID=UTC:20260326T180000
DTEND;TZID=UTC:20260326T190000
DTSTAMP:20260423T225756
CREATED:20260301T231152Z
LAST-MODIFIED:20260319T231306Z
UID:111661-1774548000-1774551600@www.ccme.org.br
SUMMARY:Assembleia Geral Ordinária
DESCRIPTION:
URL:https://www.ccme.org.br/event/assembleia-geral-ordinaria-2/
LOCATION:CCME – Centro Cultural do Movimento Escoteiro\, Rua 1º de Março 112\, Rio de Janeiro\, 20010-000
CATEGORIES:Reunião
END:VEVENT
END:VCALENDAR