BEGIN:VCALENDAR
VERSION:2.0
PRODID:-//CCME - ECPv6.15.11//NONSGML v1.0//EN
CALSCALE:GREGORIAN
METHOD:PUBLISH
X-ORIGINAL-URL:https://www.ccme.org.br
X-WR-CALDESC:Eventos para CCME
REFRESH-INTERVAL;VALUE=DURATION:PT1H
X-Robots-Tag:noindex
X-PUBLISHED-TTL:PT1H
BEGIN:VTIMEZONE
TZID:UTC
BEGIN:STANDARD
TZOFFSETFROM:+0000
TZOFFSETTO:+0000
TZNAME:UTC
DTSTART:20250101T000000
END:STANDARD
END:VTIMEZONE
BEGIN:VEVENT
DTSTART;TZID=UTC:20260121T160000
DTEND;TZID=UTC:20260123T180000
DTSTAMP:20260423T215649
CREATED:20251217T050239Z
LAST-MODIFIED:20251217T053204Z
UID:111592-1769011200-1769191200@www.ccme.org.br
SUMMARY:Curso de Iniciação à Pesca
DESCRIPTION:Curso de Iniciação à Pesca \nO curso tem por objetivo ensinar as noções básicas para o aprendizado da pesca. O curso buscará desenvolver a compreensão sobre os itens básicos para pescar individualmente\, compreensão sobre formas de utilizar o material e todo conjunto de noções básicas que cercam o tema. \nMínimo: 10 alunos / Máximo: 20 alunos \nIdade mínima: 11 anos. \n  \nDATAS: 21\, 22 e 23/01 /2026  (quarta\, quinta e sexta)\, das 16:00 às 18:00. \n21 (quarta) – aula teórica no CCME \n{ conhecendo os peixes\, período de defeso\, pesca artesanal\, pesca esportiva\, fases da lua\, tábua de marés\, bons procedimentos do pescador } \n22 (quinta) – aula teórica no CCME + visita técnica ás lojas de pesca + Pescaria próxima ao CCME. \n{ equipamentos\, pesca de arremesso\, iscas\, mercados de peixes\, colônias de pescadores } \n23 (sexta) – aula teórica no CCME + aula prática na Praia do Flamengo. (até  as 21 hs) \n{ primeiros socorros\, segurança para a  pesca} \n  \nVALOR: \nSÓCIO: R$ 80\,00 / NÃO SÓCIO: R$ 100\,00 \nOBS. Todo o material individual para a pesca terá  seu custo arcado por cada aluno. \nDIRETOR do CURSO \n MARCELO FADUL é chefe escoteiro do mar\, e pescador desde os anos 80.
URL:https://www.ccme.org.br/event/curso-de-iniciacao-a-pesca/
LOCATION:CCME – Centro Cultural do Movimento Escoteiro\, Rua 1º de Março 112\, Rio de Janeiro\, 20010-000
CATEGORIES:Curso
ATTACH;FMTTYPE=image/jpeg:https://www.ccme.org.br/wp-content/uploads/2025/12/curso-2026.jpg
END:VEVENT
BEGIN:VEVENT
DTSTART;TZID=UTC:20260126T140000
DTEND;TZID=UTC:20260130T180000
DTSTAMP:20260423T215649
CREATED:20251214T013924Z
LAST-MODIFIED:20260319T210043Z
UID:111589-1769436000-1769796000@www.ccme.org.br
SUMMARY:Curso de Oceanologia
DESCRIPTION:CURSO DE OCEANOLOGIA \nO curso livre tem por alvo crianças de 11 a 17 anos que desejam aprender oceanologia de forma teórica e prática. O conhecimento das faces físicas e biológicas do oceano contribuem para o enriquecimento das competências\, das práticas marítimas e a compreensão da responsabilidade ambiental fortalecendo a ligação com o meio ambiente marítimo. O curso será aplicado em 4 encontros com limite máximo de 40 cursantes. Os alunos que concluírem com aprovação e bom aproveitamento poderão ser verificados os itens da especialidade de Oceanologia. \nAtividades praticas: Praia da Boa Viagem\, DHN\, Mercado de São Pedro\, AquaRio e o Museu de Biologia da UFRJ. \nDatas: 26 e 27\, 29 e 30/01/2026 (segunda\, terça\, quinta e sexta) \nHorário: 14:00 às 18:00. \nValor: R$ 60\,00 (sócio) e R$ 80\,00 (não sócio)   Obs. O ingresso na visita técnica ao AquaRio\, e passagens de transportes não estão inclusos. \nPúblico alvo: mínimo de 10 participantes\, máximo de 40. Idade mínima\, 11 anos. \nProcedimento para as Inscrições:\npor e-mail: ccme@ccme.org.br\nTel. 21-22339338 ou  21-22838024 (whatssap)\nou na sede do ccme\, na Rua 1° de março 112. \n NATASHA RODRIGUES RENZ é biologa formada pela UFRJ.
URL:https://www.ccme.org.br/event/curso-de-oceanologia-2/
LOCATION:CCME – Centro Cultural do Movimento Escoteiro\, Rua 1º de Março 112\, Rio de Janeiro\, 20010-000
CATEGORIES:Curso
ATTACH;FMTTYPE=image/jpeg:https://www.ccme.org.br/wp-content/uploads/2025/12/flyer-2026.jpg
END:VEVENT
BEGIN:VEVENT
DTSTART;TZID=UTC:20260307T090000
DTEND;TZID=UTC:20260307T180000
DTSTAMP:20260423T215649
CREATED:20260203T032253Z
LAST-MODIFIED:20260203T032422Z
UID:111623-1772874000-1772906400@www.ccme.org.br
SUMMARY:Fórum Regional de Jovens Líderes
DESCRIPTION:
URL:https://www.ccme.org.br/event/forum-regional-de-jovens-lideres/
LOCATION:CCME – Centro Cultural do Movimento Escoteiro\, Rua 1º de Março 112\, Rio de Janeiro\, 20010-000
CATEGORIES:Evento,Reunião
ORGANIZER;CN="N%C3%BAcleo Regional de Jovens L%C3%ADderes":MAILTO:rederj@escoteirosrj.org.br
END:VEVENT
BEGIN:VEVENT
DTSTART;TZID=UTC:20260326T180000
DTEND;TZID=UTC:20260326T190000
DTSTAMP:20260423T215649
CREATED:20260301T231152Z
LAST-MODIFIED:20260319T231306Z
UID:111661-1774548000-1774551600@www.ccme.org.br
SUMMARY:Assembleia Geral Ordinária
DESCRIPTION:
URL:https://www.ccme.org.br/event/assembleia-geral-ordinaria-2/
LOCATION:CCME – Centro Cultural do Movimento Escoteiro\, Rua 1º de Março 112\, Rio de Janeiro\, 20010-000
CATEGORIES:Reunião
END:VEVENT
END:VCALENDAR