BEGIN:VCALENDAR
VERSION:2.0
PRODID:-//CCME - ECPv6.15.11//NONSGML v1.0//EN
CALSCALE:GREGORIAN
METHOD:PUBLISH
X-ORIGINAL-URL:https://www.ccme.org.br
X-WR-CALDESC:Eventos para CCME
REFRESH-INTERVAL;VALUE=DURATION:PT1H
X-Robots-Tag:noindex
X-PUBLISHED-TTL:PT1H
BEGIN:VTIMEZONE
TZID:UTC
BEGIN:STANDARD
TZOFFSETFROM:+0000
TZOFFSETTO:+0000
TZNAME:UTC
DTSTART:20220101T000000
END:STANDARD
END:VTIMEZONE
BEGIN:VEVENT
DTSTART;TZID=UTC:20230128T080000
DTEND;TZID=UTC:20230128T170000
DTSTAMP:20260425T232151
CREATED:20230106T005045Z
LAST-MODIFIED:20230106T010625Z
UID:58579-1674892800-1674925200@www.ccme.org.br
SUMMARY:Encontro da EQFOR-RJ
DESCRIPTION:
URL:https://www.ccme.org.br/event/encontro-da-eqfor-rj/
LOCATION:CCME – Centro Cultural do Movimento Escoteiro\, Rua 1º de Março 112\, Rio de Janeiro\, 20010-000
CATEGORIES:Evento
ATTACH;FMTTYPE=image/jpeg:https://www.ccme.org.br/wp-content/uploads/2023/01/Encont-Eqfor.jpg
END:VEVENT
END:VCALENDAR