BEGIN:VCALENDAR
VERSION:2.0
PRODID:-//CCME - ECPv6.15.11//NONSGML v1.0//EN
CALSCALE:GREGORIAN
METHOD:PUBLISH
X-ORIGINAL-URL:https://www.ccme.org.br
X-WR-CALDESC:Eventos para CCME
REFRESH-INTERVAL;VALUE=DURATION:PT1H
X-Robots-Tag:noindex
X-PUBLISHED-TTL:PT1H
BEGIN:VTIMEZONE
TZID:UTC
BEGIN:STANDARD
TZOFFSETFROM:+0000
TZOFFSETTO:+0000
TZNAME:UTC
DTSTART:20210101T000000
END:STANDARD
END:VTIMEZONE
BEGIN:VEVENT
DTSTART;TZID=UTC:20221128T190000
DTEND;TZID=UTC:20221128T220000
DTSTAMP:20260426T004612
CREATED:20221123T135459Z
LAST-MODIFIED:20221123T135459Z
UID:55496-1669662000-1669672800@www.ccme.org.br
SUMMARY:Palestra: "O Movimento Escoteiro em Portugal"
DESCRIPTION:A palestra será realizada pelo Capelão Mundial dos Escoteiros Católicos\, Padre Lus Marinho\, da CICE (Conferência Internacional Católica de Escotismo) que estará em visita pastoral ao Rio de Janeiro. Logo após a palestra será realizada uma Recepção de Boas Vindas.
URL:https://www.ccme.org.br/event/palestra-o-movimento-escoteiro-em-portugal/
LOCATION:CCME – Centro Cultural do Movimento Escoteiro\, Rua 1º de Março 112\, Rio de Janeiro\, 20010-000
CATEGORIES:Evento
ATTACH;FMTTYPE=image/jpeg:https://www.ccme.org.br/wp-content/uploads/2022/11/WhatsApp-Image-2022-11-23-at-10.22.59-1.jpeg
END:VEVENT
END:VCALENDAR