BEGIN:VCALENDAR
VERSION:2.0
PRODID:-//CCME - ECPv6.15.11//NONSGML v1.0//EN
CALSCALE:GREGORIAN
METHOD:PUBLISH
X-ORIGINAL-URL:https://www.ccme.org.br
X-WR-CALDESC:Eventos para CCME
REFRESH-INTERVAL;VALUE=DURATION:PT1H
X-Robots-Tag:noindex
X-PUBLISHED-TTL:PT1H
BEGIN:VTIMEZONE
TZID:UTC
BEGIN:STANDARD
TZOFFSETFROM:+0000
TZOFFSETTO:+0000
TZNAME:UTC
DTSTART:20240101T000000
END:STANDARD
END:VTIMEZONE
BEGIN:VEVENT
DTSTART;TZID=UTC:20251211T190000
DTEND;TZID=UTC:20251211T210000
DTSTAMP:20260423T233031
CREATED:20251126T230656Z
LAST-MODIFIED:20251126T230656Z
UID:111533-1765479600-1765486800@www.ccme.org.br
SUMMARY:Solenidade de 40 anos do CCME
DESCRIPTION:Solenidade
URL:https://www.ccme.org.br/event/solenidade-de-40-anos-do-ccme/
LOCATION:CCME – Centro Cultural do Movimento Escoteiro\, Rua 1º de Março 112\, Rio de Janeiro\, 20010-000
CATEGORIES:Evento
ATTACH;FMTTYPE=image/jpeg:https://www.ccme.org.br/wp-content/uploads/2025/11/CCME-40-ANOS-1.jpg
END:VEVENT
END:VCALENDAR