BEGIN:VCALENDAR
VERSION:2.0
PRODID:-//CCME - ECPv6.15.11//NONSGML v1.0//EN
CALSCALE:GREGORIAN
METHOD:PUBLISH
X-ORIGINAL-URL:https://www.ccme.org.br
X-WR-CALDESC:Eventos para CCME
REFRESH-INTERVAL;VALUE=DURATION:PT1H
X-Robots-Tag:noindex
X-PUBLISHED-TTL:PT1H
BEGIN:VTIMEZONE
TZID:UTC
BEGIN:STANDARD
TZOFFSETFROM:+0000
TZOFFSETTO:+0000
TZNAME:UTC
DTSTART:20220101T000000
END:STANDARD
END:VTIMEZONE
BEGIN:VEVENT
DTSTART;TZID=UTC:20230603T090000
DTEND;TZID=UTC:20230603T170000
DTSTAMP:20260425T160244
CREATED:20230519T165955Z
LAST-MODIFIED:20230519T173910Z
UID:68122-1685782800-1685811600@www.ccme.org.br
SUMMARY:Sábado Cultural do CCME
DESCRIPTION:03/06 – Sábado Cultural CCME (aberto p visitação). \n10:00 às 12:00 – Campeonato de Xadrez para lobinhos. \n14:00 às 15:00 – Palestra sobre História do Escotismo. \n  \nCCME aberto de 09:00 às 17:00 \n  \n*A Semana Nacional dos Arquivos  é uma temporada de eventos em arquivos e outras instituições de memória de todo o país cujo objetivo é aproximar essas instituições da sociedade e divulgar os valiosos trabalhos desenvolvidos. Mais notícias poderão ser vistas em: Semana Nacional de Arquivos — Arquivo Nacional (www.gov.br)
URL:https://www.ccme.org.br/event/sabado-cultural-3/
LOCATION:CCME – Centro Cultural do Movimento Escoteiro\, Rua 1º de Março 112\, Rio de Janeiro\, 20010-000
CATEGORIES:Evento
END:VEVENT
BEGIN:VEVENT
DTSTART;TZID=UTC:20230604T153000
DTEND;TZID=UTC:20230604T170000
DTSTAMP:20260425T160244
CREATED:20230519T170322Z
LAST-MODIFIED:20230519T170322Z
UID:68124-1685892600-1685898000@www.ccme.org.br
SUMMARY:Cine Lobo
DESCRIPTION:04/06 – Filme Mogli p/Lobos (15:30) \nExibição de filme para lobinhos na Sala Baden-Powell. \n  \n  \n 
URL:https://www.ccme.org.br/event/cine-lobo/
LOCATION:CCME – Centro Cultural do Movimento Escoteiro\, Rua 1º de Março 112\, Rio de Janeiro\, 20010-000
CATEGORIES:Evento
END:VEVENT
BEGIN:VEVENT
DTSTART;TZID=UTC:20230605T193000
DTEND;TZID=UTC:20230605T203000
DTSTAMP:20260425T160244
CREATED:20230519T171058Z
LAST-MODIFIED:20230519T172053Z
UID:68126-1685993400-1685997000@www.ccme.org.br
SUMMARY:Conversa ao Pé do Fogo: Documentos do passado.
DESCRIPTION:A Conversa ao Pé do Fogo é uma expressão escoteira que significa uma conversa em noite de acampamento\, ao redor da fogueira. Normalmente essas conversas são dirigidas pelos chefes escoteiros para tratar de assuntos de valores\, honra etc. \nA proposta desta “conversa” com os dois diretores do CCME\, chefes Marcelo Motta e André Sá\, é mostrarem e falarem sobre alguns documentos especiais do acervo do CCME\, e que são parte da história desconhecida – ou conhecida – do escotismo brasileiro. \nInício: 19:30 \nEncerramento: 20:30. \nLocal: Sala Almirante Benjamin Sodré. \n  \n  \n  \n*A Semana Nacional dos Arquivos  é uma temporada de eventos em arquivos e outras instituições de memória de todo o país cujo objetivo é aproximar essas instituições da sociedade e divulgar os valiosos trabalhos desenvolvidos. Mais notícias poderão ser vistas em: Semana Nacional de Arquivos — Arquivo Nacional (www.gov.br) \n 
URL:https://www.ccme.org.br/event/conversa-ao-pe-do-fogo-documentos-do-passado/
LOCATION:CCME – Centro Cultural do Movimento Escoteiro\, Rua 1º de Março 112\, Rio de Janeiro\, 20010-000
CATEGORIES:Evento
END:VEVENT
BEGIN:VEVENT
DTSTART;TZID=UTC:20230608T183000
DTEND;TZID=UTC:20230608T193000
DTSTAMP:20260425T160244
CREATED:20230519T172454Z
LAST-MODIFIED:20230519T172636Z
UID:68138-1686249000-1686252600@www.ccme.org.br
SUMMARY:Tour Guiado pelo CCME
DESCRIPTION:O TOUR GUIADO pelo CCME será oportunidade da comunidade conhecer todas as instalações do CCME\, guiadas pelos nossos diretores\, que mostrarão as Salas\, os espaços de estudos e reuniões\, além do acervo. \nData: 08/06/23 (quinta-feira) \nHorário: 18:30 às 19:30. \n  \n  \n  \n*A Semana Nacional dos Arquivos  é uma temporada de eventos em arquivos e outras instituições de memória de todo o país cujo objetivo é aproximar essas instituições da sociedade e divulgar os valiosos trabalhos desenvolvidos. Mais notícias poderão ser vistas em: Semana Nacional de Arquivos — Arquivo Nacional (www.gov.br)
URL:https://www.ccme.org.br/event/tour-guiado-pelo-ccme/
LOCATION:CCME – Centro Cultural do Movimento Escoteiro\, Rua 1º de Março 112\, Rio de Janeiro\, 20010-000
CATEGORIES:Evento
END:VEVENT
END:VCALENDAR