BEGIN:VCALENDAR
VERSION:2.0
PRODID:-//CCME - ECPv6.15.11//NONSGML v1.0//EN
CALSCALE:GREGORIAN
METHOD:PUBLISH
X-ORIGINAL-URL:https://www.ccme.org.br
X-WR-CALDESC:Eventos para CCME
REFRESH-INTERVAL;VALUE=DURATION:PT1H
X-Robots-Tag:noindex
X-PUBLISHED-TTL:PT1H
BEGIN:VTIMEZONE
TZID:UTC
BEGIN:STANDARD
TZOFFSETFROM:+0000
TZOFFSETTO:+0000
TZNAME:UTC
DTSTART:20220101T000000
END:STANDARD
END:VTIMEZONE
BEGIN:VEVENT
DTSTART;TZID=UTC:20230503T173000
DTEND;TZID=UTC:20230503T203000
DTSTAMP:20260425T171922
CREATED:20230425T140330Z
LAST-MODIFIED:20230425T140330Z
UID:66389-1683135000-1683145800@www.ccme.org.br
SUMMARY:Assembleia Geral Ordinária
DESCRIPTION:Assembleia Geral Ordinária do Centro Cultural do Movimento Escoteiro (CCME). \nData: 03/05/2023 (quarta-feira) \nHorário: 17:30 \nLocal: Auditório da Diretoria de Portos e Costas (DPC)\, na Rua Teófilo Otoni nº4\, centro do Rio de Janeiro. \nCoquetail na sede do CCME\, posterior\, previsto para as 19hs. Com autógrafos do livro “Sonhos\, poemas e canções” \nLivro SONHOS POEMAS E CANÇÕES
URL:https://www.ccme.org.br/event/assembleia-geral-ordinaria/
LOCATION:DPC – Diretoria de Portos e Costas\, auditório - Rua Teófilo Otoni\, 4\, Rio de Janeiro\, Rio de Janeiro\, 20090-070 \, Brazil
CATEGORIES:Evento
END:VEVENT
END:VCALENDAR