BEGIN:VCALENDAR
VERSION:2.0
PRODID:-//CCME - ECPv6.15.11//NONSGML v1.0//EN
CALSCALE:GREGORIAN
METHOD:PUBLISH
X-ORIGINAL-URL:https://www.ccme.org.br
X-WR-CALDESC:Eventos para CCME
REFRESH-INTERVAL;VALUE=DURATION:PT1H
X-Robots-Tag:noindex
X-PUBLISHED-TTL:PT1H
BEGIN:VTIMEZONE
TZID:UTC
BEGIN:STANDARD
TZOFFSETFROM:+0000
TZOFFSETTO:+0000
TZNAME:UTC
DTSTART:20220101T000000
END:STANDARD
END:VTIMEZONE
BEGIN:VEVENT
DTSTART;TZID=UTC:20230607T183000
DTEND;TZID=UTC:20230607T200000
DTSTAMP:20260425T175415
CREATED:20230519T171908Z
LAST-MODIFIED:20230519T171908Z
UID:68131-1686162600-1686168000@www.ccme.org.br
SUMMARY:Oficina: arquivologia aplicada ao escotismo.
DESCRIPTION:A Oficina “arquivologia aplicada ao escotismo” oferecerá diversos mecanismos para o dia a dia dos grupos escoteiros\, núcleos bandeirantes\, desbravadores e ongs que guardam sua história\, seus documentos. Será ministrada pelo conselheiro do CCME\, e funcionário público\, Luciano Basilio Gabrielli. \nHora: 18:30 às 20:00 \nData: 07/06/23 (quarta-feira) \nLocal: Sala Baden-Powell. \n  \n  \n*A Semana Nacional dos Arquivos  é uma temporada de eventos em arquivos e outras instituições de memória de todo o país cujo objetivo é aproximar essas instituições da sociedade e divulgar os valiosos trabalhos desenvolvidos. Mais notícias poderão ser vistas em: Semana Nacional de Arquivos — Arquivo Nacional (www.gov.br)
URL:https://www.ccme.org.br/event/oficina-arquivologia-aplicada-ao-escotismo/
LOCATION:CCME – Centro Cultural do Movimento Escoteiro\, Rua 1º de Março 112\, Rio de Janeiro\, 20010-000
CATEGORIES:Curso
END:VEVENT
END:VCALENDAR