BEGIN:VCALENDAR
VERSION:2.0
PRODID:-//CCME - ECPv6.15.11//NONSGML v1.0//EN
CALSCALE:GREGORIAN
METHOD:PUBLISH
X-ORIGINAL-URL:https://www.ccme.org.br
X-WR-CALDESC:Eventos para CCME
REFRESH-INTERVAL;VALUE=DURATION:PT1H
X-Robots-Tag:noindex
X-PUBLISHED-TTL:PT1H
BEGIN:VTIMEZONE
TZID:UTC
BEGIN:STANDARD
TZOFFSETFROM:+0000
TZOFFSETTO:+0000
TZNAME:UTC
DTSTART:20220101T000000
END:STANDARD
END:VTIMEZONE
BEGIN:VEVENT
DTSTART;TZID=UTC:20230116T100000
DTEND;TZID=UTC:20230123T163000
DTSTAMP:20260425T235045
CREATED:20230106T044450Z
LAST-MODIFIED:20230107T031151Z
UID:58603-1673863200-1674491400@www.ccme.org.br
SUMMARY:Curso de Animais Peçonhentos e Venenosos
DESCRIPTION:O Curso de Animais Peçonhentos e Venenosos tem por objetivo esclarecer e demonstrar quais são os animais que podem influir na segurança daqueles que vivem em ambientes ao ar livre. O curso terá aulas teóricas na sede do CCME e visitas técnicas em três locais que contribuirão para a compreensão do tema. Os escoteiros que forem bem avaliados no curso poderão receber diploma da especialidade escoteira de “animais peçonhentos”. \nValor de Inscrição: R$ 50\,00 (sócios) / R$ 70\,00 (não sócios) \nOBS. As passagens  para os deslocamentos\, e ingressos de entrada nos locais visitados\, caso sejam cobrados\, tais como alimentações\, deverão ser custeados pelos próprios alunos do curso. \nPré-requisito: Crianças menores de 11 anos\, apenas poderão se inscrever e participar se o fizer acompanhados de responsável maior de idade. \nLimite: máximo 40 alunos. \nPROGRAMA: \nAula Teórica 1 – 16/01/23 (segunda) / 10:00 às 12:30. \nI – Animais peçonhentos e venenosos terrestres – visão geral do Brasil. \nII – Tipos de peçonhas e venenos. \nIII – Conhecendo as Cobras \nVisita Técnica 1: 16/01/23 (segunda) / 13:00 às 17:00. \nIV – Instituto Vital Brasil (Niterói) \nAula Teórica 2 – 18/01/23 (quarta) / 10: às 12:30 \nV – Animais peçonhentos e venenosos\, terrestres – visão do estado do Rio de Janeiro. \nVI – Leis e impacto ambiental ao lidar referentes a animais peçonhentos ou venenosos. \nVII – Conhecendo os Escorpiões. \nAula Teórica 3 – 19/01/23 (quinta) / 10:00 às 12:30 \nVIII – Animais peçonhentos e venenosos aquáticos – visão geral do Brasil. \nIX – Tipos de peçonhas e venenos dos aquáticos. \nX – Sintomas\, procedimentos e primeiros socorros após acidentes com animais peçonhentos e venenosos. \nXI – Conhecendo as Aranhas. \nVisita Técnica 2: 19/01/23 (quinta) / 14:00 às 17:00 \nXII – Instituto Vital Brazil (Manguinhos) \nAula Teórica 4 – 23/01/23 (segunda) / 10:00 às 12:30 \nXIII – Animais peçonhentos e venenosos aquáticos – visão do estado do Rio de Janeiro. \nXIV – Conhecendo os Insetos perigosos. \nXV – Prevenção a ataques e acidentes com animais peçonhentos e venenosos em ambientes residenciais\, áreas públicas e acampamentos. \nVisita Técnica 2: 24/01/23 (terça) / 10:00 às 13:00 \nXVI – AQUARIO \nXVII – Prova Final:  24/01/23 (terça) / 14:00 às 15:00 \nXVIII – Cerimônia de Encerramento: 24/01/23 (terça) / 16:00 às 16:30 \n  \nDiretor do Curso: \n Gilmar Martins Teles\, é chefe de escoteiros do mar há 30 anos\, biólogo graduado pela UERJ com larga experiência profissional\, com curso de serpentes pelo Instituto Butantã e Universidade do Pará tendo estagiado no serpentário do Instituto de Biologia do Exército Brasileiro.
URL:https://www.ccme.org.br/event/curso-de-animais-peconhentos-e-venenosos/
LOCATION:CCME – Centro Cultural do Movimento Escoteiro\, Rua 1º de Março 112\, Rio de Janeiro\, 20010-000
CATEGORIES:Curso
ATTACH;FMTTYPE=image/jpeg:https://www.ccme.org.br/wp-content/uploads/2023/01/curso-peconhentos.jpg
END:VEVENT
BEGIN:VEVENT
DTSTART;TZID=UTC:20230117T183000
DTEND;TZID=UTC:20230117T210000
DTSTAMP:20260425T235045
CREATED:20230106T050844Z
LAST-MODIFIED:20230106T050945Z
UID:58619-1673980200-1673989200@www.ccme.org.br
SUMMARY:CI-MAR - Curso Informativo sobre o Escotismo do Mar
DESCRIPTION:O CI-MAR é uma palestra informativa que busca informar sobre as práticas do Escotismo do Mar\, observando pontos do programa\, histórico\, praxes\, tradições\, regulamentos\, formação e as noções gerais para que os adultos iniciantes compreendam a esquemática de funcionamento de um GEMAR\, o que é\, o que faz e como funciona etc. \nInscrição: Gratuita (Sócios) / R$ 20\,00 (não Sócios) \nData: 17-Janeiro-2023 (terça-feira) \nHorário: 18:30 a 21:00 \nProcedimento para as Inscrições:\npor email: ccme@ccme.org.br  / Tel. 21-22339338 / ou na sede do ccme\, na Rua 1° de março 112. \nDIRETOR \n ANDRE TORRICELLI é escoteiro há trinta anos\, lotado no 123ºGEMAR-RJ no Clube Naval. Foi Coordenador Nacional dos Escoteiros do Mar da União dos Escoteiros do Brasil e hoje colabora na função de Coordenador Regional.
URL:https://www.ccme.org.br/event/ci-mar-curso-informativo-sobre-o-escotismo-do-mar/
LOCATION:CCME – Centro Cultural do Movimento Escoteiro\, Rua 1º de Março 112\, Rio de Janeiro\, 20010-000
CATEGORIES:Curso
ATTACH;FMTTYPE=image/jpeg:https://www.ccme.org.br/wp-content/uploads/2022/01/ci-mar.jpg
END:VEVENT
END:VCALENDAR