BEGIN:VCALENDAR
VERSION:2.0
PRODID:-//CCME - ECPv6.15.11//NONSGML v1.0//EN
CALSCALE:GREGORIAN
METHOD:PUBLISH
X-ORIGINAL-URL:https://www.ccme.org.br
X-WR-CALDESC:Eventos para CCME
REFRESH-INTERVAL;VALUE=DURATION:PT1H
X-Robots-Tag:noindex
X-PUBLISHED-TTL:PT1H
BEGIN:VTIMEZONE
TZID:UTC
BEGIN:STANDARD
TZOFFSETFROM:+0000
TZOFFSETTO:+0000
TZNAME:UTC
DTSTART:20220101T000000
END:STANDARD
END:VTIMEZONE
BEGIN:VEVENT
DTSTART;TZID=UTC:20230425T190000
DTEND;TZID=UTC:20230505T210000
DTSTAMP:20260425T190533
CREATED:20230317T020916Z
LAST-MODIFIED:20230425T135525Z
UID:63518-1682449200-1683320400@www.ccme.org.br
SUMMARY:Capacitação de Vistoriadores em Embarcações de Esporte e Recreio CVEER
DESCRIPTION:Capacitação de Vistoriadores em Embarcações de Esporte e Recreio CVEER \nO curso visa proporcionar ao aluno conhecimentos para a realização de vistorias em embarcações de esporte e recreio\, para atender empresas de seguro. Organizado pelo Centro Cultural do Movimento Escoteiro (CCME) em conjunto com a Fundação de Estudos do Mar (FEMAR)\, mantenendora da Escola Técnica de Estudos do Mar (ETEMAR). \n  \nInscrições: Serão oferecidas 20 (vinte) vagas preferencialmente para jovens Escoteiros do Mar acima de 17 anos de idade\, indicados pelos Grupos de Escoteiros do Mar (RJ)\, e com boa experiência náutica. Cada grupo poderá indicar inicialmente 1 (um) aluno\, podendo também apresentar outros em ordem de preferência\, que serão chamados em caso de sobra de vagas. \n> Enviar e-mail solicitando a Ficha de Inscrição para ccme@ccme.org.br . A participação estará vinculada a resposta do CCME ao aluno\, confirmando a inscrição. \nCarga Horária: 16 horas total. \nAulas Teóricas: 25 e 27/04 e 02 e 05/05/23\, com início às 19:00 e encerramento às 21:00. \nAula Prática: Serão realizadas a bordo de veleiro e lancha\, no Clube Naval Charitas\, em Niterói\, no dia 09/05/23\, de 09:00 as 16:00. \nA Prova Final acontecerá no dia 11/05/23 no período de 19:00 as 21:00. \nO Certificado será concedido ao aluno que tiver no mínimo 75% de frequência das aulas e 70% de aproveitamento nas avaliações. Será considerado falta o atraso superior a 15 minutos ao início ou de ausência durante as aulas. \n  \nConteúdo: \nVistoria em lanchas – Conhecimentos elementares sobre embarcações; Termos náuticos; Nomenclaturas diversas; Preennchimento de laudo de vistoria específico; glossário de termos náuticos e questionamentos diversos. \nVistoria em Veleiros – Conhecimentos elementares sobre um veleiro; Nomenclaturas de um veleiro; Preenchimento do laudo de vistoria específico; e questionamentos diversos. \nPratica de Vistorias – Vistoria nas embarcações e preenchimentos dos laudos específicos.
URL:https://www.ccme.org.br/event/capacitacao-de-vistoriadores-em-embarcacoes-de-esporte-e-recreio-cveer/
LOCATION:CCME – Centro Cultural do Movimento Escoteiro\, Rua 1º de Março 112\, Rio de Janeiro\, 20010-000
CATEGORIES:Curso
ATTACH;FMTTYPE=image/jpeg:https://www.ccme.org.br/wp-content/uploads/2023/03/divulgacao.jpg
END:VEVENT
END:VCALENDAR