BEGIN:VCALENDAR
VERSION:2.0
PRODID:-//CCME - ECPv6.15.11//NONSGML v1.0//EN
CALSCALE:GREGORIAN
METHOD:PUBLISH
X-WR-CALNAME:CCME
X-ORIGINAL-URL:https://www.ccme.org.br
X-WR-CALDESC:Eventos para CCME
REFRESH-INTERVAL;VALUE=DURATION:PT1H
X-Robots-Tag:noindex
X-PUBLISHED-TTL:PT1H
BEGIN:VTIMEZONE
TZID:UTC
BEGIN:STANDARD
TZOFFSETFROM:+0000
TZOFFSETTO:+0000
TZNAME:UTC
DTSTART:20220101T000000
END:STANDARD
END:VTIMEZONE
BEGIN:VEVENT
DTSTART;TZID=UTC:20230123T190000
DTEND;TZID=UTC:20230205T130000
DTSTAMP:20260425T213256
CREATED:20230106T013104Z
LAST-MODIFIED:20230107T041323Z
UID:58583-1674500400-1675602000@www.ccme.org.br
SUMMARY:Curso Básico do Esporte Orientação
DESCRIPTION:O Curso Básico de Corrida de Orientação visa preparar o praticante a dominar as Técnicas Básicas para a prática do esporte\, com segurança e suficiente conhecimento às atividades necessárias. A conclusão do curso credencia o aluno a participar do Curso Avançado que será oferecido posteriormente\, sob demanda. Os escoteiros (seniores e guias) que participarem com aproveitamento poderão ser avaliados para a especialidade de Corrida de Orientação.\nAULAS: \nTeóricas: 23 (segunda)\, 25 (quarta)\,  27 (sexta)\, 31 (terça) e 02/02/2023 (quinta) – 19:00 às 22:00. \nPráticas: 29/01 (domingo) e 05/02/2023 (domingo) – 08:00 às 13:00. \nPré-Requisito: Ter\, no mínimo\, 16 anos de idade. Todos os alunos do Curso deverão portar uma BÚSSOLA PLANA\, para as aulas práticas. \nLimite: máximo de 40 vagas. \nInscrição: R$ 150\,00 (sócio) e R$ 160\,00 (não sócio). \nA inscrição pode ser feita por email\, ou telefone: ccme@ccme.org.br  ou (21) 22339338. \n  \nCAPACITAÇÃO EM NAVEGAÇÃO TERRESTRE\, ATRAVÉS DO ESPORTE ORIENTAÇÃO -CURSO BÁSICO \nCONTEÚDO PROGRAMÁTICO DAS AULAS TEÓRICAS:\nI – Definir o esporte Orientação\, no que consiste e onde se pratica ; II – Identificar o objetivo geral e os objetivos específicos da Orientação ; III – Apresentar o histórico do esporte\, no Brasil e no mundo ; IV – Identificar a estruturação do esporte no Brasil ; V – Citar as modalidades da Orientação ; VI – Reconhecer os tipos de campeonatos nacionais e as suas regras básicas ; VII – Citar a regra sobre a consciência ecológica no  esporte Orientação ; VIII – Apresentar os implementos\, uniformes e acessórios necessários à prática da Orientação ; IX – Reconhecer as partes da Bússola ; X – Apresentar o mapa de Orientação e o layout do seu entorno ; XI – Identificar os símbolos do mapa e do cartão de descrição ; XII – Apresentar as características do percurso de Orientação. \nCONTEÚDO PROGRAMÁTICO DAS AULAS PRÁTICAS:\nI – Aferir distância de 100m em passos duplos; II – Executar um percurso com várias mudanças de direções ; III – Executar um percurso por planilha de azimutes e passos duplos ; IV – Executar um percurso na categoria H/D12N ; V – Executar um percurso na categoria H/D16B ; VI – Executar um percurso na categoria H/D21A. \nMATERIAL DE CONSULTA:\nA) Cartilha pedagógica do Esporte Orientação; B) Introdução e leitura de mapas; C) Simbologia do mapa ISOM 2017-2 (CBO/IOF); D) Simbologia do mapa ISSprOM 2019 (CBO/IOF); E) Simbologia do Cartão de descrição (CBO/IOF); \nCoordenadores do Curso: \n Prof. Neir Braga e Profa. Mére Braga \nProf. Neir Braga – 1985 a 2022\n– Pós-graduado em Ciência da Performance Humana\, Militar da Força Aérea\, Juiz controlador\nde eventos\, Mapeador cartógrafo\, Técnico de Orientação e Coordenador do Projeto Se Orienta\nRio;\n– Atleta da Força Aérea Brasileira\, Campeão Sulamericano\, Bicampeão Brasileiro e\nPentacampeão Carioca de Orientação;\n– Tempo de 31min 39seg nos 10km\, 01h 09min 47seg na Meia Maratona e 02h 30min 41seg na\nMaratona;\n– Técnico tricampeão das FFAA com a equipe feminina e duas representações internacionais\ncomo técnico das Forças Armadas: Finlândia e Noruega. \nProfa. Mére Braga – 1998 a 2022\n– Licenciada em Geografia e Coordenadora do Projeto Se Orienta Rio;\n– Atleta de Orientação desde 1998;\n– Palestrante na “Semana da Geografia” – Fundação Educacional Campograndense;\n– Instrutora de workshops na Universidade Federal Fluminense – UFF\, na Prefeitura do Rio de\nJaneiro e na Universidade Salgado de Oliveira;\n– Campeã Brasileira e Carioca de Orientação.
URL:https://www.ccme.org.br/event/curso-basico-de-corrida-de-orientacao/
LOCATION:CCME – Centro Cultural do Movimento Escoteiro\, Rua 1º de Março 112\, Rio de Janeiro\, 20010-000
CATEGORIES:Curso
ATTACH;FMTTYPE=image/jpeg:https://www.ccme.org.br/wp-content/uploads/2023/01/curso-de-corrida-de-orientacao-1.jpg
END:VEVENT
BEGIN:VEVENT
DTSTART;TZID=UTC:20230131T090000
DTEND;TZID=UTC:20230201T130000
DTSTAMP:20260425T213256
CREATED:20230107T030431Z
LAST-MODIFIED:20230111T192532Z
UID:58697-1675155600-1675256400@www.ccme.org.br
SUMMARY:Curso de História do Escotismo
DESCRIPTION:Release. O Curso de História do Escotismo prevê uma série de palestras sobre contexto histórico do movimento escoteiro\, ministradas por diferentes adultos do escotismo\, incluindo pessoas que vivenciaram a história. Além das palestras haverão atividades pedagógicas e de interação a cerca do tema. \nDATAS: 31/01 e 01/02 de 2023. (terça e quarta) \nHORÁRIOS: 09:00 a 13:00. \nVALORES: R$ 40\,00 (sócio)\,  R$ 50\,00 (não sócio) \nOBS. Os jovens escoteiros que participarem poderão ser avaliados na especialidade de História do Escotismo. \nDIRETOR. \n ANDRÉ SÁ é jornalista\, radialista e historiador. Escotista no 2ºGE São João Baptista da Lagoa atua há mais de 30 anos no movimento escoteiro.
URL:https://www.ccme.org.br/event/curso-de-historia-do-escotismo-4/
LOCATION:CCME – Centro Cultural do Movimento Escoteiro\, Rua 1º de Março 112\, Rio de Janeiro\, 20010-000
CATEGORIES:Curso
ATTACH;FMTTYPE=image/jpeg:https://www.ccme.org.br/wp-content/uploads/2021/12/Banner-Curso-Hist-do-Escotismo.jpg
END:VEVENT
END:VCALENDAR