BEGIN:VCALENDAR
VERSION:2.0
PRODID:-//CCME - ECPv6.15.11//NONSGML v1.0//EN
CALSCALE:GREGORIAN
METHOD:PUBLISH
X-ORIGINAL-URL:https://www.ccme.org.br
X-WR-CALDESC:Eventos para CCME
REFRESH-INTERVAL;VALUE=DURATION:PT1H
X-Robots-Tag:noindex
X-PUBLISHED-TTL:PT1H
BEGIN:VTIMEZONE
TZID:UTC
BEGIN:STANDARD
TZOFFSETFROM:+0000
TZOFFSETTO:+0000
TZNAME:UTC
DTSTART:20250101T000000
END:STANDARD
END:VTIMEZONE
BEGIN:VEVENT
DTSTART;TZID=UTC:20260112T130000
DTEND;TZID=UTC:20260116T180000
DTSTAMP:20260423T201506
CREATED:20251208T202804Z
LAST-MODIFIED:20251213T045548Z
UID:111553-1768222800-1768586400@www.ccme.org.br
SUMMARY:CURSO DE PRIMEIROS SOCORROS
DESCRIPTION:CONDIÇÕES PARA PARTICIPAÇÃO NO CURSO: \nNumero mínimo de alunos: 15 (quinze) \nNumero máximo de alunos: 40 (quarenta) \nTer a idade mínima: 11 anos. \nTAXA DE INSCRIÇÃO \nSócio: R$ 80\,00 (oitenta reais) \nNão sócio: R$ 100\,00 (cem reais) \nDETALHES DO CURSO \n– 40  horas aula \n– 5 avaliações teóricas e práticas \nConteúdo >> Primeiras ações do Socorrista / Sinais vitais / Parada Cardio Respiratória / Hemorragias / Estado de Choque / Ferimentos\, Ataduras e Tipóias / Queimaduras\, Desidratação\, Insolação\, Hipotermia  etc (Lesões ambientais) / Emergências clínicas / Envenenamento e Intoxicação Alimentar / Transporte de acidentados / Prevenção de acidentes / Maleta de Primeiros Socorros / Mobilização para Desastres e Catástrofes / Parto Súbito / Animais Peçonhentos / DST e Epidemias / Vacinas\, Campanhas de Vacinação  / Pressão arterial. \nOBS* Os aprovados no curso poderão concorrer a certificação das especialidade de Primeiros Socorros de acordo com o critério de avaliação do Diretor do Curso. \nDuração: \nDe segunda a sexta: 12\, 13\, 14\, 15 e 16/01/2026. \nHorário: 13 às 18hs. \n* Visita externa ao Corpo de Bombeiros do Rio de Janeiro. \nPúblico alvo: Ramos escoteiro\, sênior\, pioneiro e chefia (adultos). Não é necessário somente ser escoteiro\, bandeirante ou desbravador o curso é aberto. \nProcedimento para as Inscrições:\npor e-mail: ccme@ccme.org.br\nTel. 21-22339338 ou  21-22838024 (whatssap)\nou na sede do ccme\, na Rua 1° de março 112. \n  Diretor do Curso: Gabriel Fadul é estudante de medicina e escoteiro desde os 10 anos de idade.
URL:https://www.ccme.org.br/event/curso-de-primeiros-socorros-8/
LOCATION:CCME – Centro Cultural do Movimento Escoteiro\, Rua 1º de Março 112\, Rio de Janeiro\, 20010-000
CATEGORIES:Curso
ATTACH;FMTTYPE=image/jpeg:https://www.ccme.org.br/wp-content/uploads/2025/12/curso-sos-26.jpg
END:VEVENT
END:VCALENDAR