BEGIN:VCALENDAR
VERSION:2.0
PRODID:-//CCME - ECPv6.15.11//NONSGML v1.0//EN
CALSCALE:GREGORIAN
METHOD:PUBLISH
X-ORIGINAL-URL:https://www.ccme.org.br
X-WR-CALDESC:Eventos para CCME
REFRESH-INTERVAL;VALUE=DURATION:PT1H
X-Robots-Tag:noindex
X-PUBLISHED-TTL:PT1H
BEGIN:VTIMEZONE
TZID:UTC
BEGIN:STANDARD
TZOFFSETFROM:+0000
TZOFFSETTO:+0000
TZNAME:UTC
DTSTART:20240101T000000
END:STANDARD
END:VTIMEZONE
BEGIN:VEVENT
DTSTART;TZID=UTC:20251202T190000
DTEND;TZID=UTC:20251202T210000
DTSTAMP:20260423T214031
CREATED:20251126T214726Z
LAST-MODIFIED:20251126T220625Z
UID:111524-1764702000-1764709200@www.ccme.org.br
SUMMARY:Reunião do Contingente JANCAN
DESCRIPTION:
URL:https://www.ccme.org.br/event/reuniao-do-contingente-jancan/
LOCATION:CCME – Centro Cultural do Movimento Escoteiro\, Rua 1º de Março 112\, Rio de Janeiro\, 20010-000
CATEGORIES:Reunião
ATTACH;FMTTYPE=image/jpeg:https://www.ccme.org.br/wp-content/uploads/2025/11/jancan.jpg
END:VEVENT
END:VCALENDAR