BEGIN:VCALENDAR
VERSION:2.0
PRODID:-//CCME - ECPv6.15.11//NONSGML v1.0//EN
CALSCALE:GREGORIAN
METHOD:PUBLISH
X-WR-CALNAME:CCME
X-ORIGINAL-URL:https://www.ccme.org.br
X-WR-CALDESC:Eventos para CCME
REFRESH-INTERVAL;VALUE=DURATION:PT1H
X-Robots-Tag:noindex
X-PUBLISHED-TTL:PT1H
BEGIN:VTIMEZONE
TZID:UTC
BEGIN:STANDARD
TZOFFSETFROM:+0000
TZOFFSETTO:+0000
TZNAME:UTC
DTSTART:20240101T000000
END:STANDARD
END:VTIMEZONE
BEGIN:VEVENT
DTSTART;TZID=UTC:20250110T130000
DTEND;TZID=UTC:20250125T180000
DTSTAMP:20260424T131020
CREATED:20241122T110113Z
LAST-MODIFIED:20241122T205640Z
UID:107757-1736514000-1737828000@www.ccme.org.br
SUMMARY:CURSO DE PRIMEIROS SOCORROS
DESCRIPTION:CONDIÇÕES PARA PARTICIPAÇÃO NO CURSO: \nNumero mínimo de alunos: 15 (quinze) \nNumero máximo de alunos: 40 (quarenta) \nTer a idade mínima: 11 anos. \nTAXA DE INSCRIÇÃO \nSócio: R$ 70\,00 (sessenta reais) \nNão sócio: R$ 80\,00 (oitenta reais) \nDETALHES DO CURSO \n– 40  horas aula \n– 4 avaliações teóricas e práticas \nConteúdo >> Primeiras ações do Socorrista / Sinais vitais / Parada Cardio Respiratória / Hemorragias / Estado de Choque / Ferimentos\, Ataduras e Tipóias / Queimaduras\, Desidratação\, Insolação\, Hipotermia  etc (Lesões ambientais) / Emergências clínicas / Envenenamento e Intoxicação Alimentar / Transporte de acidentados / Prevenção de acidentes / Maleta de Primeiros Socorros / Mobilização para Desastres e Catástrofes / Parto Súbito / Animais Peçonhentos / DST e Epidemias / Vacinas\, Campanhas de Vacinação  / Pressão arterial. \nOBS* Os aprovados no curso poderão concorrer a certificação das especialidades de Primeiros Socorros e/ou Socorrismo\, de acordo com o critério de avaliação do Diretor do Curso. \nDuração: \nÀs sextas e Sábados: 10 e 11\, 17\, 24 e 25/01 / 2025. \nHorário: 13 às 18hs. \n* Visita externa ao Corpo de Bombeiros do Rio de Janeiro e a Central de Monitoramento da Prefeitura. A prova prática do Curso acontecerá no Espaço Cultural da Marinha. \nPúblico alvo: Ramos escoteiro\, sênior\, pioneiro e chefia (adultos). Não é necessário somente ser escoteiro\, bandeirante ou desbravador o curso é aberto. \nProcedimento para as Inscrições:\npor e-mail: ccme@ccme.org.br\nTel. 21-22339338 ou  21-22838024 (whatssap)\nou na sede do ccme\, na Rua 1° de março 112. \n \nDiretor do Curso: Roberto Cesar dos Santos é enfermeiro e Chefe Escoteiro no 31ºGE Marechal Rondon/RJ.
URL:https://www.ccme.org.br/event/107757/
LOCATION:CCME – Centro Cultural do Movimento Escoteiro\, Rua 1º de Março 112\, Rio de Janeiro\, 20010-000
CATEGORIES:Curso
ATTACH;FMTTYPE=image/jpeg:https://www.ccme.org.br/wp-content/uploads/2024/11/curso-sos-25.jpg
END:VEVENT
BEGIN:VEVENT
DTSTART;TZID=UTC:20250121T140000
DTEND;TZID=UTC:20250129T180000
DTSTAMP:20260424T131020
CREATED:20241122T193335Z
LAST-MODIFIED:20241122T194050Z
UID:107787-1737468000-1738173600@www.ccme.org.br
SUMMARY:Curso de Oceanologia
DESCRIPTION:CURSO DE OCEANOLOGIA \nO curso livre tem por alvo crianças de 12 a 17 anos que desejam aprender oceanologia de forma teórica e prática. O conhecimento das faces físicas e biológicas do oceano contribuem para o enriquecimento das competências\, das práticas marítimas e a compreensão da responsabilidade ambiental fortalecendo a ligação com o meio ambiente marítimo. O curso será aplicado em 4 encontros com limite máximo de 30 cursantes. Os alunos que concluirem com aprovação e bom aproveitamento poderão ser verificados os itens da especialidade de Oceanologia. \nAtividades praticas: Praia da Boa Viagem\, DHN\, Mercado de São Pedro\, AquaRio e o Museu de Biologia da UFRJ. \nDatas: 21 e 22\, 28 e 29/01/2025 (terças e quartas) \nHorário: 14:00 às 18:00. \nValor: R$ 50\,00 (sócio) e R$ 60\,00 (não sócio)   Obs. O ingresso na visita técnica ao AquaRio\, e passagens de transportes não estão inclusos. \nPúblico alvo: mínimo de 10 participantes\, máximo de 30. Idade mínima\, 12 anos. \nProcedimento para as Inscrições:\npor e-mail: ccme@ccme.org.br\nTel. 21-22339338 ou  21-22838024 (whatssap)\nou na sede do ccme\, na Rua 1° de março 112. \n NATASHA RODRIGUES RENZ é estudante de biologia marinha na UFRJ.
URL:https://www.ccme.org.br/event/curso-de-oceanologia/
LOCATION:CCME – Centro Cultural do Movimento Escoteiro\, Rua 1º de Março 112\, Rio de Janeiro\, 20010-000
CATEGORIES:Curso
ATTACH;FMTTYPE=image/jpeg:https://www.ccme.org.br/wp-content/uploads/2024/11/ocean.jpg
END:VEVENT
END:VCALENDAR